BEGIN:VCALENDAR
VERSION:2.0
PRODID:-//Sails Up 4 Cancer - ECPv6.15.20//NONSGML v1.0//EN
CALSCALE:GREGORIAN
METHOD:PUBLISH
X-ORIGINAL-URL:https://su4c.org
X-WR-CALDESC:Events for Sails Up 4 Cancer
REFRESH-INTERVAL;VALUE=DURATION:PT1H
X-Robots-Tag:noindex
X-PUBLISHED-TTL:PT1H
BEGIN:VTIMEZONE
TZID:America/New_York
BEGIN:DAYLIGHT
TZOFFSETFROM:-0500
TZOFFSETTO:-0400
TZNAME:EDT
DTSTART:20240310T070000
END:DAYLIGHT
BEGIN:STANDARD
TZOFFSETFROM:-0400
TZOFFSETTO:-0500
TZNAME:EST
DTSTART:20241103T060000
END:STANDARD
BEGIN:DAYLIGHT
TZOFFSETFROM:-0500
TZOFFSETTO:-0400
TZNAME:EDT
DTSTART:20250309T070000
END:DAYLIGHT
BEGIN:STANDARD
TZOFFSETFROM:-0400
TZOFFSETTO:-0500
TZNAME:EST
DTSTART:20251102T060000
END:STANDARD
BEGIN:DAYLIGHT
TZOFFSETFROM:-0500
TZOFFSETTO:-0400
TZNAME:EDT
DTSTART:20260308T070000
END:DAYLIGHT
BEGIN:STANDARD
TZOFFSETFROM:-0400
TZOFFSETTO:-0500
TZNAME:EST
DTSTART:20261101T060000
END:STANDARD
END:VTIMEZONE
BEGIN:VEVENT
DTSTART;TZID=America/New_York:20250718T180000
DTEND;TZID=America/New_York:20250718T210000
DTSTAMP:20260420T073458
CREATED:20170414T175539Z
LAST-MODIFIED:20250714T163715Z
UID:1674-1752861600-1752872400@su4c.org
SUMMARY:Skipper's Party: Cornhole\, BBQ\, Live Music
DESCRIPTION:Skipper’s Party \nWe will be handing out the race instructions\, conducting a Q&A with the Race Committee\, then party! \nSAILS UP 4 CANCER in conjunction with COASTAL CONNECTICUT CORNHOLE\, present a CORNHOLE TOURNAMENT with live music by MARTY & FRIENDS. Featuring DOGWATCH MYSTIC Barbecue. \n$25/Person – Barbecue (purchase BBQ – also available onsite) \nCash Bar!\n$50/Cornhole Team (2 players) – Sign Up Here or Scoreholio. Walk-ins welcome. First come\, first served. \nSign up to volunteer \nCORNHOLE TOURNAMENT  \nThis is a double elimination tournament & ACO/ACL Rules apply. Check in / Practice at 5:30 PM. 32 Teams MAX. Registration cut off is 6pm. Tournament starts 6:30pm. Bags are available or bring your own. Public is invited to join in the fun & competition \nMARTY & FRIENDS \nMarty and Friends is a dynamic ensemble driven by rich grooves\, heartfelt melodies\, and a deep love for all genres of music. Anchored by Marty’s soulful bass lines\, the band brings together talented musicians from all across New England to create high-energy performances of your favorite covers with reimagined classics. With a warm\, electrifying sound\, Marty and Friends deliver music that resonates with audiences and keeps the spirit of live performance alive. \nThank you!\nMystic Shipyard\, Coastal Connecticut Cornhole\, Marty & Friends\, Noank Village Boatyard and Dogwatch BBQ! \nAll benefiting Sails Up 4 Cancer! \n  \n 
URL:https://su4c.org/event/cornhole/
LOCATION:Mystic Shipyard\, 100 Essex Street\, Mystic\, CT\, 06355\, United States
CATEGORIES:Concert,Fundraiser
ATTACH;FMTTYPE=image/jpeg:https://su4c.org/wp-content/uploads/2017/04/Su4c_cornholelogo_final2025.jpg
END:VEVENT
END:VCALENDAR