BEGIN:VCALENDAR
VERSION:2.0
PRODID:-//Sails Up 4 Cancer - ECPv6.15.20//NONSGML v1.0//EN
CALSCALE:GREGORIAN
METHOD:PUBLISH
X-WR-CALNAME:Sails Up 4 Cancer
X-ORIGINAL-URL:https://su4c.org
X-WR-CALDESC:Events for Sails Up 4 Cancer
REFRESH-INTERVAL;VALUE=DURATION:PT1H
X-Robots-Tag:noindex
X-PUBLISHED-TTL:PT1H
BEGIN:VTIMEZONE
TZID:America/New_York
BEGIN:DAYLIGHT
TZOFFSETFROM:-0500
TZOFFSETTO:-0400
TZNAME:EDT
DTSTART:20250309T070000
END:DAYLIGHT
BEGIN:STANDARD
TZOFFSETFROM:-0400
TZOFFSETTO:-0500
TZNAME:EST
DTSTART:20251102T060000
END:STANDARD
BEGIN:DAYLIGHT
TZOFFSETFROM:-0500
TZOFFSETTO:-0400
TZNAME:EDT
DTSTART:20260308T070000
END:DAYLIGHT
BEGIN:STANDARD
TZOFFSETFROM:-0400
TZOFFSETTO:-0500
TZNAME:EST
DTSTART:20261101T060000
END:STANDARD
BEGIN:DAYLIGHT
TZOFFSETFROM:-0500
TZOFFSETTO:-0400
TZNAME:EDT
DTSTART:20270314T070000
END:DAYLIGHT
BEGIN:STANDARD
TZOFFSETFROM:-0400
TZOFFSETTO:-0500
TZNAME:EST
DTSTART:20271107T060000
END:STANDARD
END:VTIMEZONE
BEGIN:VEVENT
DTSTART;TZID=America/New_York:20260423T160000
DTEND;TZID=America/New_York:20260423T180000
DTSTAMP:20260420T133736
CREATED:20260401T163700Z
LAST-MODIFIED:20260404T213752Z
UID:3883-1776960000-1776967200@su4c.org
SUMMARY:J.McLaughlin Spring Event
DESCRIPTION:Join us at J. McLaughlin\, located at 3 Main Street\, Essex\, CT\, Thursday\, April 23rd\, from 4-6pm for sips and spring shopping with host Bob Davis\, founder SEO of SU4C. Don’t miss out on the chance to mingle while supporting a great cause – J. McLaughlin will be donating 10% of sales to Sails Up 4 Cancer. Thank you for your support\, and we can’t wait to see everyone at the CT Spring Boat Show! \nwww.jmclaughlin.com/pages/store-locator-ct-essex \n 
URL:https://su4c.org/event/jmclaughlin-spring-event/
LOCATION:J.McLaughlin\, 3 Main Street\, Essex\, CT\, United States
CATEGORIES:Fundraiser
ATTACH;FMTTYPE=image/jpeg:https://su4c.org/wp-content/uploads/2024/04/Essex-SU4C-evite-1.jpg
END:VEVENT
END:VCALENDAR