BEGIN:VCALENDAR
VERSION:2.0
PRODID:-//Sails Up 4 Cancer - ECPv6.15.20//NONSGML v1.0//EN
CALSCALE:GREGORIAN
METHOD:PUBLISH
X-WR-CALNAME:Sails Up 4 Cancer
X-ORIGINAL-URL:https://su4c.org
X-WR-CALDESC:Events for Sails Up 4 Cancer
REFRESH-INTERVAL;VALUE=DURATION:PT1H
X-Robots-Tag:noindex
X-PUBLISHED-TTL:PT1H
BEGIN:VTIMEZONE
TZID:America/New_York
BEGIN:DAYLIGHT
TZOFFSETFROM:-0500
TZOFFSETTO:-0400
TZNAME:EDT
DTSTART:20220313T070000
END:DAYLIGHT
BEGIN:STANDARD
TZOFFSETFROM:-0400
TZOFFSETTO:-0500
TZNAME:EST
DTSTART:20221106T060000
END:STANDARD
BEGIN:DAYLIGHT
TZOFFSETFROM:-0500
TZOFFSETTO:-0400
TZNAME:EDT
DTSTART:20230312T070000
END:DAYLIGHT
BEGIN:STANDARD
TZOFFSETFROM:-0400
TZOFFSETTO:-0500
TZNAME:EST
DTSTART:20231105T060000
END:STANDARD
BEGIN:DAYLIGHT
TZOFFSETFROM:-0500
TZOFFSETTO:-0400
TZNAME:EDT
DTSTART:20240310T070000
END:DAYLIGHT
BEGIN:STANDARD
TZOFFSETFROM:-0400
TZOFFSETTO:-0500
TZNAME:EST
DTSTART:20241103T060000
END:STANDARD
BEGIN:DAYLIGHT
TZOFFSETFROM:-0500
TZOFFSETTO:-0400
TZNAME:EDT
DTSTART:20250309T070000
END:DAYLIGHT
BEGIN:STANDARD
TZOFFSETFROM:-0400
TZOFFSETTO:-0500
TZNAME:EST
DTSTART:20251102T060000
END:STANDARD
END:VTIMEZONE
BEGIN:VEVENT
DTSTART;VALUE=DATE:20231116
DTEND;VALUE=DATE:20240103
DTSTAMP:20260419T114812
CREATED:20231117T201906Z
LAST-MODIFIED:20240107T195125Z
UID:3652-1700092800-1704239999@su4c.org
SUMMARY:Share The Love
DESCRIPTION:Sails Up 4 Cancer is proud to be part of the Subaru America Share the Love campaign in conjunction with Holmgren Subaru\, 3 New Park Ave\, N. Franklin\, CT. \nFor the 16th year\, Subaru’s Signature Philanthropic Event Returns with Longtime National Charity Partners: the ASPCA®\, Make-A-Wish®\, Meals on Wheels America\, and the National Park Foundation as well as over 800 local hometown charities. \nBy the end of this year’s event\, Subaru and its participating retailers aim to reach a cumulative total of more than $285 million in donations. \n  \n“Each year\, our Subaru community comes together for the Subaru Share the Love Event\, collectively supporting causes that make an incredible impact on both a national and local scale. This event is at the heart of what makes us More Than a Car Company\,” said Jeff Walters\, President and Chief Operating Officer\, Subaru of America\, Inc. “Our customers inspire us\, and we are excited to offer them another chance to give back to the causes that are closest to their hearts heading into this holiday season.” \n  \nFor every new Subaru vehicle purchased or leased at any of the more than 630 Subaru retailers from November 16\, 2023\, through January 2\, 2024\, Subaru will donate $250 to the purchaser’s choice of charities. Retailers can also add up to two hometown charities in their local communities to receive an additional $50 or more for each vehicle sold or leased.  \nSU4C\, founded in 2011\, is a 501(c)3 non profit corporation based in Mystic. Over the years SU4C has donated over $250\,000 to a variety of research centers\, hospitals\, hospice care\, and individuals dealing with all types of cancer. \n“Don’t lose sight of the fact that the Holmgren team has educated their customers about Sails Up. Customers have a variety of options as far as where the donations go but has chosen Sails Up 4 Cancer to keep their gift local within the community and supports the Sails Up mission\,” explained Ken Scanzio\, Subaru District Sales Manager.  \nBob Davis\, CEO of SU4C has partnered with the Holmgren team for numerous years on a variety of projects. “Bob has been a personal friend and he is passionate about Sails Up\, it is impossible not to get involved and be supportive when the leader is someone who has not only survived two cancers but works incredibly hard to raise funds for future research and individual cancer care. I am proud to be a part of such a great organization\,” said Eric Holmgren. \nSince the launch of the Subaru Share the Love Event in 2008\, Subaru of America\, Inc. and its participating retailers have donated more than $256 million and supported over 2\,100 hometown charities to help those in need. \nSave the date for the Sails Up Regatta & Cornhole Tournament the weekend of June 14-15\, 2024 at Mystic Shipyard. \nFor more information\, please visit. www.SU4C.org and subaru.com/share \n###  \nFor further press info.\, please contact Courtney Moore\, courtney@cmbcreativegroup.com • 860/536.5870
URL:https://su4c.org/event/3652/
LOCATION:Holmgren Subaru\, 3 New Park Avenue\, North Franklin\, CT\, 06254\, United States
CATEGORIES:Fundraiser
ATTACH;FMTTYPE=image/jpeg:https://su4c.org/wp-content/uploads/2023/11/Su4c_STL_square2023-scaled.jpg
END:VEVENT
END:VCALENDAR