BEGIN:VCALENDAR
VERSION:2.0
PRODID:-//Sails Up 4 Cancer - ECPv6.15.20//NONSGML v1.0//EN
CALSCALE:GREGORIAN
METHOD:PUBLISH
X-ORIGINAL-URL:https://su4c.org
X-WR-CALDESC:Events for Sails Up 4 Cancer
REFRESH-INTERVAL;VALUE=DURATION:PT1H
X-Robots-Tag:noindex
X-PUBLISHED-TTL:PT1H
BEGIN:VTIMEZONE
TZID:America/New_York
BEGIN:DAYLIGHT
TZOFFSETFROM:-0500
TZOFFSETTO:-0400
TZNAME:EDT
DTSTART:20250309T070000
END:DAYLIGHT
BEGIN:STANDARD
TZOFFSETFROM:-0400
TZOFFSETTO:-0500
TZNAME:EST
DTSTART:20251102T060000
END:STANDARD
BEGIN:DAYLIGHT
TZOFFSETFROM:-0500
TZOFFSETTO:-0400
TZNAME:EDT
DTSTART:20260308T070000
END:DAYLIGHT
BEGIN:STANDARD
TZOFFSETFROM:-0400
TZOFFSETTO:-0500
TZNAME:EST
DTSTART:20261101T060000
END:STANDARD
BEGIN:DAYLIGHT
TZOFFSETFROM:-0500
TZOFFSETTO:-0400
TZNAME:EDT
DTSTART:20270314T070000
END:DAYLIGHT
BEGIN:STANDARD
TZOFFSETFROM:-0400
TZOFFSETTO:-0500
TZNAME:EST
DTSTART:20271107T060000
END:STANDARD
BEGIN:DAYLIGHT
TZOFFSETFROM:-0500
TZOFFSETTO:-0400
TZNAME:EDT
DTSTART:20280312T070000
END:DAYLIGHT
BEGIN:STANDARD
TZOFFSETFROM:-0400
TZOFFSETTO:-0500
TZNAME:EST
DTSTART:20281105T060000
END:STANDARD
END:VTIMEZONE
BEGIN:VEVENT
DTSTART;VALUE=DATE:20260815
DTEND;VALUE=DATE:20260816
DTSTAMP:20260420T152550
CREATED:20170216T185944Z
LAST-MODIFIED:20260417T224803Z
UID:1396-1786752000-1786838399@su4c.org
SUMMARY:Mudhead Benefit Regatta in support of SU4C + Shoreside Party
DESCRIPTION:Mudhead Benefit Regatta in support of Sails Up 4 Cancer & SU4C Shoreside Party\nRacing Visit mudhead.org to register to race (coming soon) $50/per boat \nPost Regatta Party: Sails Up 4 Cancer Shoreside Party: Rocks 21\, 3 Williams Ave\, Mystic \nLive Music\, Prize Drawings\, Silent Auction\, race results. Open to the public and non-sailors! \nParty tickets: $50 advance / at the door: $65 (tickets include BBQ Buffet and one drink ticket) \nCelebrating 15 years of Sails Up 4 Cancer and 50 years of Mudheads! \nPurchase Party Tickets\nSkippers register their boats and recruit friends and colleagues to help crew and raise funds. Skippers and crew members seek donations from friends\, family\, co-workers and employers to sponsor their boat. SU4C seeks national and local event sponsors willing to actively support SU4C’s mission statement with sponsor dollars. \n\nProgram Book Ad Form (pdf)\n\nPay Online\n\n\n\n\nSponsorship Proposal (pdf)\n\nPay Online\n\n\n\n\nSilent Auction Form (pdf)\n\n \nSU4C is a nonprofit organization dedicated to funding research in the education\, prevention\, care\, and cure for all types of cancer through the art and enjoyment of sailing. \nThe Mudhead’s mission is to promote camaraderie and fun among members by encouraging competitive sailing\, managing quality races\, fostering member participation in racing at all levels\, and hosting memorable social events. Visit: mudhead.org \nSail & Party to Support the Cause! \nThe Sailors for the Sea\, Clean Regattas program is the world’s leading and only sustainability certification for water-based events. Our goal is to generate less waste throughout the event and reduce the amount of trash that ends up in the water or on the shore. \nSPONSORS:
URL:https://su4c.org/event/mudhead-benefit-regatta-su4c/
LOCATION:Rocks 21\, 3 Williams Ave\, Mystic\, 06355\, United States
CATEGORIES:Fundraiser,Regatta
ATTACH;FMTTYPE=image/jpeg:https://su4c.org/wp-content/uploads/2017/02/regatta.jpg
END:VEVENT
BEGIN:VEVENT
DTSTART;VALUE=DATE:20260925
DTEND;VALUE=DATE:20260926
DTSTAMP:20260420T152550
CREATED:20241109T193044Z
LAST-MODIFIED:20251003T214027Z
UID:4482-1790294400-1790380799@su4c.org
SUMMARY:Michael Cavanaugh Memorial Golf Tournament
DESCRIPTION:Michael Cavanaugh Memorial Golf Tournament \nPequot Golf Club\n127 Wheeler Rd\, Stonington\, CT \nSeptember 25\, 2026\n12:30pm\n$120/per player \nProceeds will benefit ALS United- CT research and Sails Up 4 Cancer. \nRegister to Golf \nSponsor a Hole! \nPhoto Gallery \n2026 SPONSORS \n \n 
URL:https://su4c.org/event/michael-cavanaugh-memorial-golf-tournament/
LOCATION:Pequot Golf Club\, 127 Wheeler Rd\, Stonington\, CT\, 06378\, United States
CATEGORIES:Fundraiser
ATTACH;FMTTYPE=image/jpeg:https://su4c.org/wp-content/uploads/2024/11/Su4c_genericGolfsocial.jpg
END:VEVENT
BEGIN:VEVENT
DTSTART;TZID=America/New_York:20270313T180000
DTEND;TZID=America/New_York:20270313T220000
DTSTAMP:20260420T152550
CREATED:20260115T235740Z
LAST-MODIFIED:20260407T213341Z
UID:3553-1804960800-1804975200@su4c.org
SUMMARY:Sails Up 4 Cancer Creating Hope Gala
DESCRIPTION:Join Sails Up 4 Cancer for the Sails Up 4 Cancer Creating Hope Gala\nMarch 13\, 2027 • 6-10pm\nThe Hounds\, 769 Stonington Road\, Stonington\, CT 06378\nAll proceeds benefit Sails Up 4 Cancer’s Spinnaker Fund\nAuction Items\n\nSponsorship Opportunities\nAbout the Spinnaker Fund\nSilent Auction Donation Sheet\nView the 2024 photos & cancer survivors video by Greg Gilmartin\nView the 2026 photo gallery\nVolunteer\n\nSPONSORS:
URL:https://su4c.org/event/creating-hope-gala/
LOCATION:The Hounds\, 769 Stonington Road\, Stonington\, CT\, 06378\, United States
CATEGORIES:Fundraiser
ATTACH;FMTTYPE=image/jpeg:https://su4c.org/wp-content/uploads/2025/01/Su4cSavethedate_2027_web.jpg
END:VEVENT
END:VCALENDAR