BEGIN:VCALENDAR
VERSION:2.0
PRODID:-//Sails Up 4 Cancer - ECPv6.15.20//NONSGML v1.0//EN
CALSCALE:GREGORIAN
METHOD:PUBLISH
X-WR-CALNAME:Sails Up 4 Cancer
X-ORIGINAL-URL:https://su4c.org
X-WR-CALDESC:Events for Sails Up 4 Cancer
REFRESH-INTERVAL;VALUE=DURATION:PT1H
X-Robots-Tag:noindex
X-PUBLISHED-TTL:PT1H
BEGIN:VTIMEZONE
TZID:America/New_York
BEGIN:DAYLIGHT
TZOFFSETFROM:-0500
TZOFFSETTO:-0400
TZNAME:EDT
DTSTART:20210314T070000
END:DAYLIGHT
BEGIN:STANDARD
TZOFFSETFROM:-0400
TZOFFSETTO:-0500
TZNAME:EST
DTSTART:20211107T060000
END:STANDARD
BEGIN:DAYLIGHT
TZOFFSETFROM:-0500
TZOFFSETTO:-0400
TZNAME:EDT
DTSTART:20220313T070000
END:DAYLIGHT
BEGIN:STANDARD
TZOFFSETFROM:-0400
TZOFFSETTO:-0500
TZNAME:EST
DTSTART:20221106T060000
END:STANDARD
BEGIN:DAYLIGHT
TZOFFSETFROM:-0500
TZOFFSETTO:-0400
TZNAME:EDT
DTSTART:20230312T070000
END:DAYLIGHT
BEGIN:STANDARD
TZOFFSETFROM:-0400
TZOFFSETTO:-0500
TZNAME:EST
DTSTART:20231105T060000
END:STANDARD
END:VTIMEZONE
BEGIN:VEVENT
DTSTART;TZID=America/New_York:20220618T100000
DTEND;TZID=America/New_York:20220619T220000
DTSTAMP:20260420T073458
CREATED:20200728T193624Z
LAST-MODIFIED:20230111T184614Z
UID:2433-1655546400-1655676000@su4c.org
SUMMARY:SU4C Regatta Weekend - Save the Date
DESCRIPTION:Skippers Meeting & Cornhole Tournament – June 16\, 2023 \nRegatta & Shore Party – June 17\, 2023
URL:https://su4c.org/event/su4c-regatta-save-the-date/
LOCATION:Mystic Shipyard\, 100 Essex Street\, Mystic\, CT\, 06355\, United States
CATEGORIES:Concert,Fundraiser,Regatta,Shore Party
ATTACH;FMTTYPE=image/jpeg:https://su4c.org/wp-content/uploads/2020/07/IMG_7198-web.jpg
END:VEVENT
BEGIN:VEVENT
DTSTART;VALUE=DATE:20220430
DTEND;VALUE=DATE:20220501
DTSTAMP:20260420T073458
CREATED:20220125T174000Z
LAST-MODIFIED:20220218T192233Z
UID:2941-1651276800-1651363199@su4c.org
SUMMARY:CT River One-Design Regatta
DESCRIPTION:Connecticut River One-Design Charity Regatta an exciting river race\, it also serves to draw attention to the work of SAILS UP 4 CANCER\, a local organization providing hope for cancer patients and their families.  \nTeaming up with several clubs on the lower Connecticut River and Connecticut Shoreline: Essex Corinthian\, Essex\, Frostbite and Pettipaug\, as well as Duck Island Yacht Club will cooperate to run a one-design regatta on the Connecticut River scheduled for Saturday April 30th\, 2022. The regatta is open to any One Design fleet that has 5 or more registered boats: Ideal 18\, Etchells\, MC Scow\, Laser\, JY‐15\, Bluejay\, RS Aero\, and Etchells\, all have local fleets that we are encouraging to participate.  \nView Event Flyer \nBecome A Sponsor \nParty Tickets \nCreate A Fundraising Team \nBoat Registration
URL:https://su4c.org/event/ct-river-one-design-regatta/
LOCATION:Connecticut River\, Essex\, CT\, United States
CATEGORIES:Fundraiser,Regatta
ATTACH;FMTTYPE=image/jpeg:https://su4c.org/wp-content/uploads/2022/01/Logo.jpg
END:VEVENT
END:VCALENDAR