BEGIN:VCALENDAR
VERSION:2.0
PRODID:-//Sails Up 4 Cancer - ECPv6.15.20//NONSGML v1.0//EN
CALSCALE:GREGORIAN
METHOD:PUBLISH
X-WR-CALNAME:Sails Up 4 Cancer
X-ORIGINAL-URL:https://su4c.org
X-WR-CALDESC:Events for Sails Up 4 Cancer
REFRESH-INTERVAL;VALUE=DURATION:PT1H
X-Robots-Tag:noindex
X-PUBLISHED-TTL:PT1H
BEGIN:VTIMEZONE
TZID:America/New_York
BEGIN:DAYLIGHT
TZOFFSETFROM:-0500
TZOFFSETTO:-0400
TZNAME:EDT
DTSTART:20190310T070000
END:DAYLIGHT
BEGIN:STANDARD
TZOFFSETFROM:-0400
TZOFFSETTO:-0500
TZNAME:EST
DTSTART:20191103T060000
END:STANDARD
BEGIN:DAYLIGHT
TZOFFSETFROM:-0500
TZOFFSETTO:-0400
TZNAME:EDT
DTSTART:20200308T070000
END:DAYLIGHT
BEGIN:STANDARD
TZOFFSETFROM:-0400
TZOFFSETTO:-0500
TZNAME:EST
DTSTART:20201101T060000
END:STANDARD
BEGIN:DAYLIGHT
TZOFFSETFROM:-0500
TZOFFSETTO:-0400
TZNAME:EDT
DTSTART:20210314T070000
END:DAYLIGHT
BEGIN:STANDARD
TZOFFSETFROM:-0400
TZOFFSETTO:-0500
TZNAME:EST
DTSTART:20211107T060000
END:STANDARD
END:VTIMEZONE
BEGIN:VEVENT
DTSTART;VALUE=DATE:20201009
DTEND;VALUE=DATE:20210101
DTSTAMP:20260421T000910
CREATED:20201009T150551Z
LAST-MODIFIED:20201202T134246Z
UID:2451-1602201600-1609459199@su4c.org
SUMMARY:Annual Appeal
DESCRIPTION:SU4C 2020 Annual Appeal: The Unvitation \nNo need for a new dress. No need for a designated driver. No need to leave the house. No need for a mask. No need to check the calendar… because this is not an invitation to a party\, but an invitation to give. \nSails Up 4 Cancer was unable to have fundraising events in 2020\, thus losing a much – needed revenue stream\, but the need to help cancer patients and their families in our community is more important than ever. \nThe donations from this appeal will go to our Spinnaker Fund to provide direct relief to those in the community undergoing cancer treatment that need financial support. So this year please send what you would have spent to attend an event to support SU4C. \nYour generosity will have an immediate impact in the community. Thank you! \nSU4C is a 501(c)3 non-profit: FEIN 27-5553950 \n[give_form id=”2460″ show_title=”false” show_goal=”false” show_content=”above” display_style=”onpage”]
URL:https://su4c.org/event/unvitation/
LOCATION:CT
CATEGORIES:Fundraiser
ATTACH;FMTTYPE=image/jpeg:https://su4c.org/wp-content/uploads/2020/10/SU4c_unvitationidea-top.jpg
END:VEVENT
END:VCALENDAR